Package: biodb Version: 1.16.0 Command: /Library/Frameworks/R.framework/Resources/bin/R CMD check --install=check:biodb.install-out.txt --library=/Library/Frameworks/R.framework/Resources/library --no-vignettes --timings biodb_1.16.0.tar.gz StartedAt: 2025-04-21 18:22:33 -0400 (Mon, 21 Apr 2025) EndedAt: 2025-04-21 18:24:06 -0400 (Mon, 21 Apr 2025) EllapsedTime: 93.2 seconds RetCode: 0 Status: OK CheckDir: biodb.Rcheck Warnings: 0