Package: biodb Version: 1.16.1 Command: /Library/Frameworks/R.framework/Resources/bin/R CMD INSTALL biodb StartedAt: 2025-10-13 15:29:09 -0400 (Mon, 13 Oct 2025) EndedAt: 2025-10-13 15:29:53 -0400 (Mon, 13 Oct 2025) EllapsedTime: 44.5 seconds RetCode: 0 Status: OK