Package: biodb Version: 1.16.1 Command: /Library/Frameworks/R.framework/Resources/bin/R CMD check --install=check:biodb.install-out.txt --library=/Library/Frameworks/R.framework/Resources/library --no-vignettes --timings biodb_1.16.1.tar.gz StartedAt: 2025-10-14 14:21:44 -0400 (Tue, 14 Oct 2025) EndedAt: 2025-10-14 14:24:11 -0400 (Tue, 14 Oct 2025) EllapsedTime: 146.7 seconds RetCode: 0 Status: OK CheckDir: biodb.Rcheck Warnings: 0