Package: biodb Version: 1.16.1 Command: /Library/Frameworks/R.framework/Resources/bin/R CMD build --keep-empty-dirs --no-resave-data biodb StartedAt: 2025-10-13 20:04:00 -0400 (Mon, 13 Oct 2025) EndedAt: 2025-10-13 20:05:13 -0400 (Mon, 13 Oct 2025) EllapsedTime: 73.2 seconds RetCode: 0 Status: OK PackageFile: biodb_1.16.1.tar.gz PackageFileSize: 1.115 MiB