Package: biodb Version: 1.16.1 Command: rm -rf biodb.buildbin-libdir && mkdir biodb.buildbin-libdir && /Users/biocbuild/BBS/utils/build-universal.sh biodb_1.16.1.tar.gz /Library/Frameworks/R.framework/Resources/bin/R biodb.buildbin-libdir StartedAt: 2025-10-15 17:36:41 -0400 (Wed, 15 Oct 2025) EndedAt: 2025-10-15 17:37:33 -0400 (Wed, 15 Oct 2025) EllapsedTime: 52.3 seconds RetCode: 0 Status: OK PackageFile: biodb_1.16.1.tgz PackageFileSize: 2.886 MiB