Package: biocthis Version: 1.19.0 Command: /home/biocbuild/R/R/bin/R CMD build --keep-empty-dirs --no-resave-data biocthis StartedAt: 2025-10-20 22:16:20 -0000 (Mon, 20 Oct 2025) EndedAt: 2025-10-20 22:16:39 -0000 (Mon, 20 Oct 2025) EllapsedTime: 19.0 seconds RetCode: 0 Status: OK PackageFile: biocthis_1.19.0.tar.gz PackageFileSize: 794 KiB