Package: biocthis Version: 1.20.0 Command: /Library/Frameworks/R.framework/Resources/bin/R CMD build --keep-empty-dirs --no-resave-data biocthis StartedAt: 2025-11-02 15:46:19 -0500 (Sun, 02 Nov 2025) EndedAt: 2025-11-02 15:46:26 -0500 (Sun, 02 Nov 2025) EllapsedTime: 7.1 seconds RetCode: 0 Status: OK PackageFile: biocthis_1.20.0.tar.gz PackageFileSize: 660.3 KiB