Package: biocmake Version: 1.2.0 Command: /home/biocbuild/R/R/bin/R CMD INSTALL biocmake StartedAt: 2025-11-17 21:06:45 -0000 (Mon, 17 Nov 2025) EndedAt: 2025-11-17 21:07:14 -0000 (Mon, 17 Nov 2025) EllapsedTime: 28.9 seconds RetCode: 0 Status: OK