Package: biocmake Version: 1.2.0 Command: /home/biocbuild/R/R/bin/R CMD check --install=check:biocmake.install-out.txt --library=/home/biocbuild/R/R/site-library --no-vignettes --timings biocmake_1.2.0.tar.gz StartedAt: 2025-11-18 07:02:21 -0000 (Tue, 18 Nov 2025) EndedAt: 2025-11-18 07:03:05 -0000 (Tue, 18 Nov 2025) EllapsedTime: 44.1 seconds RetCode: 0 Status: OK CheckDir: biocmake.Rcheck Warnings: 0