Package: biocmake Version: 1.2.0 Command: /home/biocbuild/bbs-3.22-bioc/R/bin/R CMD INSTALL biocmake StartedAt: 2025-11-17 16:48:54 -0500 (Mon, 17 Nov 2025) EndedAt: 2025-11-17 16:48:56 -0500 (Mon, 17 Nov 2025) EllapsedTime: 2.2 seconds RetCode: 0 Status: OK