Package: biobtreeR Version: 1.20.0 Command: /Library/Frameworks/R.framework/Resources/bin/R CMD INSTALL biobtreeR StartedAt: 2025-10-09 15:06:15 -0400 (Thu, 09 Oct 2025) EndedAt: 2025-10-09 15:06:44 -0400 (Thu, 09 Oct 2025) EllapsedTime: 29.6 seconds RetCode: 0 Status: OK