Package: biobtreeR Version: 1.20.0 Command: rm -rf biobtreeR.buildbin-libdir && mkdir biobtreeR.buildbin-libdir && /Users/biocbuild/BBS/utils/build-universal.sh biobtreeR_1.20.0.tar.gz /Library/Frameworks/R.framework/Resources/bin/R biobtreeR.buildbin-libdir StartedAt: 2025-10-10 12:55:08 -0400 (Fri, 10 Oct 2025) EndedAt: 2025-10-10 12:55:15 -0400 (Fri, 10 Oct 2025) EllapsedTime: 7.5 seconds RetCode: 0 Status: OK PackageFile: biobtreeR_1.20.0.tgz PackageFileSize: 979.1 KiB