Package: biobroom Version: 1.40.0 Command: E:\biocbuild\bbs-3.21-bioc\R\bin\R.exe CMD check --no-multiarch --install=check:biobroom.install-out.txt --library=E:\biocbuild\bbs-3.21-bioc\R\library --no-vignettes --timings biobroom_1.40.0.tar.gz StartedAt: 2025-08-14 23:48:18 -0400 (Thu, 14 Aug 2025) EndedAt: 2025-08-14 23:50:05 -0400 (Thu, 14 Aug 2025) EllapsedTime: 107.1 seconds RetCode: 0 Status: WARNINGS CheckDir: biobroom.Rcheck Warnings: 1