Package: biobroom Version: 1.40.0 Command: /Library/Frameworks/R.framework/Resources/bin/R CMD build --keep-empty-dirs --no-resave-data biobroom StartedAt: 2025-04-21 16:03:49 -0400 (Mon, 21 Apr 2025) EndedAt: 2025-04-21 16:04:49 -0400 (Mon, 21 Apr 2025) EllapsedTime: 59.5 seconds RetCode: 0 Status: OK PackageFile: biobroom_1.40.0.tar.gz PackageFileSize: 583.5 KiB