Package: biobroom Version: 1.40.0 Command: /Library/Frameworks/R.framework/Resources/bin/R CMD check --install=check:biobroom.install-out.txt --library=/Library/Frameworks/R.framework/Resources/library --no-vignettes --timings biobroom_1.40.0.tar.gz StartedAt: 2025-10-14 14:08:01 -0400 (Tue, 14 Oct 2025) EndedAt: 2025-10-14 14:09:42 -0400 (Tue, 14 Oct 2025) EllapsedTime: 101.6 seconds RetCode: 0 Status: WARNINGS CheckDir: biobroom.Rcheck Warnings: 1