Package: biobroom Version: 1.40.0 Command: rm -rf biobroom.buildbin-libdir && mkdir biobroom.buildbin-libdir && /Users/biocbuild/BBS/utils/build-universal.sh biobroom_1.40.0.tar.gz /Library/Frameworks/R.framework/Resources/bin/R biobroom.buildbin-libdir StartedAt: 2025-10-15 17:35:09 -0400 (Wed, 15 Oct 2025) EndedAt: 2025-10-15 17:35:17 -0400 (Wed, 15 Oct 2025) EllapsedTime: 7.8 seconds RetCode: 0 Status: OK PackageFile: biobroom_1.40.0.tgz PackageFileSize: 826.6 KiB