Package: bioDist Version: 1.82.0 Command: /home/biocbuild/R/R/bin/R CMD check --install=check:bioDist.install-out.txt --library=/home/biocbuild/R/R/site-library --no-vignettes --timings bioDist_1.82.0.tar.gz StartedAt: 2025-11-18 07:04:08 -0000 (Tue, 18 Nov 2025) EndedAt: 2025-11-18 07:05:03 -0000 (Tue, 18 Nov 2025) EllapsedTime: 55.1 seconds RetCode: 0 Status: OK CheckDir: bioDist.Rcheck Warnings: 0