Package: bioDist Version: 1.82.0 Command: /home/biocbuild/R/R/bin/R CMD build --keep-empty-dirs --no-resave-data bioDist StartedAt: 2025-11-18 00:02:36 -0000 (Tue, 18 Nov 2025) EndedAt: 2025-11-18 00:02:57 -0000 (Tue, 18 Nov 2025) EllapsedTime: 21.0 seconds RetCode: 0 Status: OK PackageFile: bioDist_1.82.0.tar.gz PackageFileSize: 197.7 KiB