Package: bigmelon Version: 1.34.0 Command: E:\biocbuild\bbs-3.21-bioc\R\bin\R.exe CMD check --no-multiarch --install=check:bigmelon.install-out.txt --library=E:\biocbuild\bbs-3.21-bioc\R\library --no-vignettes --timings bigmelon_1.34.0.tar.gz StartedAt: 2025-08-14 23:46:04 -0400 (Thu, 14 Aug 2025) EndedAt: 2025-08-15 00:04:06 -0400 (Fri, 15 Aug 2025) EllapsedTime: 1081.4 seconds RetCode: 0 Status: WARNINGS CheckDir: bigmelon.Rcheck Warnings: 5