Package: bgx Version: 1.74.0 Command: /Library/Frameworks/R.framework/Resources/bin/R CMD build --keep-empty-dirs --no-resave-data bgx StartedAt: 2025-10-13 17:19:55 -0400 (Mon, 13 Oct 2025) EndedAt: 2025-10-13 17:22:00 -0400 (Mon, 13 Oct 2025) EllapsedTime: 125.9 seconds RetCode: 0 Status: OK PackageFile: bgx_1.74.0.tar.gz PackageFileSize: 2.619 MiB