Package: bgx Version: 1.74.0 Command: /home/biocbuild/R/R/bin/R CMD check --install=check:bgx.install-out.txt --library=/home/biocbuild/R/R/site-library --no-vignettes --timings bgx_1.74.0.tar.gz StartedAt: 2025-10-14 06:36:23 -0000 (Tue, 14 Oct 2025) EndedAt: 2025-10-14 06:38:23 -0000 (Tue, 14 Oct 2025) EllapsedTime: 120.1 seconds RetCode: 0 Status: OK CheckDir: bgx.Rcheck Warnings: 0