Package: bgx Version: 1.74.0 Command: /home/biocbuild/R/R/bin/R CMD build --keep-empty-dirs --no-resave-data bgx StartedAt: 2025-10-13 23:00:52 -0000 (Mon, 13 Oct 2025) EndedAt: 2025-10-13 23:01:53 -0000 (Mon, 13 Oct 2025) EllapsedTime: 61.0 seconds RetCode: 0 Status: OK PackageFile: bgx_1.74.0.tar.gz PackageFileSize: 2.614 MiB