Package: bgx Version: 1.74.0 Command: rm -rf bgx.buildbin-libdir && mkdir bgx.buildbin-libdir && /Users/biocbuild/BBS/utils/build-universal.sh bgx_1.74.0.tar.gz /Library/Frameworks/R.framework/Resources/bin/R bgx.buildbin-libdir StartedAt: 2025-10-15 17:34:17 -0400 (Wed, 15 Oct 2025) EndedAt: 2025-10-15 17:34:58 -0400 (Wed, 15 Oct 2025) EllapsedTime: 41.4 seconds RetCode: 0 Status: OK PackageFile: bgx_1.74.0.tgz PackageFileSize: 391.9 KiB