Package: bettr Version: 1.5.3 Command: rm -rf bettr.buildbin-libdir && mkdir bettr.buildbin-libdir && F:\biocbuild\bbs-3.22-bioc\R\bin\R.exe CMD INSTALL --build --library=bettr.buildbin-libdir bettr_1.5.3.tar.gz StartedAt: 2025-08-15 09:47:53 -0400 (Fri, 15 Aug 2025) EndedAt: 2025-08-15 09:48:27 -0400 (Fri, 15 Aug 2025) EllapsedTime: 33.4 seconds RetCode: 0 Status: OK PackageFile: bettr_1.5.3.zip PackageFileSize: 1.513 MiB