Package: bettr Version: 1.6.0 Command: /Library/Frameworks/R.framework/Resources/bin/R CMD check --install=check:bettr.install-out.txt --library=/Library/Frameworks/R.framework/Resources/library --no-vignettes --timings bettr_1.6.0.tar.gz StartedAt: 2025-11-03 19:42:13 -0500 (Mon, 03 Nov 2025) EndedAt: 2025-11-03 19:46:32 -0500 (Mon, 03 Nov 2025) EllapsedTime: 258.7 seconds RetCode: 0 Status: OK CheckDir: bettr.Rcheck Warnings: 0