Package: bettr Version: 1.6.0 Maintainer: Charlotte Soneson MaintainerEmail: charlottesoneson at gmail.com git_url: https://git.bioconductor.org/packages/bettr git_branch: RELEASE_3_22 git_last_commit: 46da753 git_last_commit_date: 2025-10-29 11:28:28 -0400 (Wed, 29 Oct 2025)