Package: betaHMM Version: 1.5.1 Command: /home/biocbuild/R/R/bin/R CMD build --keep-empty-dirs --no-resave-data betaHMM StartedAt: 2025-10-20 22:09:54 -0000 (Mon, 20 Oct 2025) EndedAt: 2025-10-20 22:17:03 -0000 (Mon, 20 Oct 2025) EllapsedTime: 429.2 seconds RetCode: 0 Status: OK PackageFile: betaHMM_1.5.1.tar.gz PackageFileSize: 3.57 MiB