Package: betaHMM Version: 1.6.0 Command: /home/biocbuild/bbs-3.22-bioc/R/bin/R CMD INSTALL betaHMM StartedAt: 2025-11-06 15:18:12 -0500 (Thu, 06 Nov 2025) EndedAt: 2025-11-06 15:18:41 -0500 (Thu, 06 Nov 2025) EllapsedTime: 28.6 seconds RetCode: 0 Status: OK