Package: benchdamic Version: 1.16.0 Command: /home/biocbuild/R/R/bin/R CMD check --install=check:benchdamic.install-out.txt --library=/home/biocbuild/R/R/site-library --no-vignettes --timings benchdamic_1.16.0.tar.gz StartedAt: 2025-11-11 07:20:46 -0000 (Tue, 11 Nov 2025) EndedAt: 2025-11-11 07:38:18 -0000 (Tue, 11 Nov 2025) EllapsedTime: 1051.6 seconds RetCode: 1 Status: ERROR CheckDir: benchdamic.Rcheck Warnings: NA