Package: benchdamic Version: 1.16.0 Command: rm -rf benchdamic.buildbin-libdir && mkdir benchdamic.buildbin-libdir && /Users/biocbuild/BBS/utils/build-universal.sh benchdamic_1.16.0.tar.gz /Library/Frameworks/R.framework/Resources/bin/R benchdamic.buildbin-libdir StartedAt: 2025-11-04 01:29:12 -0500 (Tue, 04 Nov 2025) EndedAt: 2025-11-04 01:30:54 -0500 (Tue, 04 Nov 2025) EllapsedTime: 102.2 seconds RetCode: 0 Status: OK PackageFile: benchdamic_1.16.0.tgz PackageFileSize: 6.14 MiB