Package: beer Version: 1.14.0 Command: /Library/Frameworks/R.framework/Resources/bin/R CMD check --install=check:beer.install-out.txt --library=/Library/Frameworks/R.framework/Resources/library --no-vignettes --timings beer_1.14.0.tar.gz StartedAt: 2025-11-03 19:40:52 -0500 (Mon, 03 Nov 2025) EndedAt: 2025-11-03 19:55:21 -0500 (Mon, 03 Nov 2025) EllapsedTime: 868.8 seconds RetCode: 0 Status: OK CheckDir: beer.Rcheck Warnings: 0