Package: beer Version: 1.14.0 Command: /Library/Frameworks/R.framework/Resources/bin/R CMD build --keep-empty-dirs --no-resave-data beer StartedAt: 2025-11-03 16:10:50 -0500 (Mon, 03 Nov 2025) EndedAt: 2025-11-03 16:14:10 -0500 (Mon, 03 Nov 2025) EllapsedTime: 200.0 seconds RetCode: 0 Status: OK PackageFile: beer_1.14.0.tar.gz PackageFileSize: 611.8 KiB