Package: beer Version: 1.14.0 Command: rm -rf beer.buildbin-libdir && mkdir beer.buildbin-libdir && /Users/biocbuild/BBS/utils/build-universal.sh beer_1.14.0.tar.gz /Library/Frameworks/R.framework/Resources/bin/R beer.buildbin-libdir StartedAt: 2025-11-04 01:29:12 -0500 (Tue, 04 Nov 2025) EndedAt: 2025-11-04 01:29:55 -0500 (Tue, 04 Nov 2025) EllapsedTime: 43.1 seconds RetCode: 0 Status: OK PackageFile: beer_1.14.0.tgz PackageFileSize: 705 KiB