Package: bedbaser Version: 1.0.3 Command: rm -rf bedbaser.buildbin-libdir && mkdir bedbaser.buildbin-libdir && E:\biocbuild\bbs-3.21-bioc\R\bin\R.exe CMD INSTALL --build --library=bedbaser.buildbin-libdir bedbaser_1.0.3.tar.gz StartedAt: 2025-08-12 09:10:40 -0400 (Tue, 12 Aug 2025) EndedAt: 2025-08-12 09:11:01 -0400 (Tue, 12 Aug 2025) EllapsedTime: 21.0 seconds RetCode: 0 Status: OK PackageFile: bedbaser_1.0.3.zip PackageFileSize: 315.3 KiB