Package: bedbaser Version: 1.0.4 Command: /Library/Frameworks/R.framework/Resources/bin/R CMD INSTALL bedbaser StartedAt: 2025-10-13 15:58:37 -0400 (Mon, 13 Oct 2025) EndedAt: 2025-10-13 15:58:50 -0400 (Mon, 13 Oct 2025) EllapsedTime: 13.4 seconds RetCode: 0 Status: OK