Package: bedbaser Version: 1.0.4 Command: /Library/Frameworks/R.framework/Resources/bin/R CMD check --install=check:bedbaser.install-out.txt --library=/Library/Frameworks/R.framework/Resources/library --no-vignettes --timings bedbaser_1.0.4.tar.gz StartedAt: 2025-10-14 00:27:51 -0400 (Tue, 14 Oct 2025) EndedAt: 2025-10-14 00:32:38 -0400 (Tue, 14 Oct 2025) EllapsedTime: 286.6 seconds RetCode: 0 Status: OK CheckDir: bedbaser.Rcheck Warnings: 0