Package: bedbaser Version: 1.2.0 Command: /Library/Frameworks/R.framework/Resources/bin/R CMD check --install=check:bedbaser.install-out.txt --library=/Library/Frameworks/R.framework/Resources/library --no-vignettes --timings bedbaser_1.2.0.tar.gz StartedAt: 2025-11-02 18:37:23 -0500 (Sun, 02 Nov 2025) EndedAt: 2025-11-02 18:38:58 -0500 (Sun, 02 Nov 2025) EllapsedTime: 95.0 seconds RetCode: 0 Status: OK CheckDir: bedbaser.Rcheck Warnings: 0