############################################################################## ############################################################################## ### ### Running command: ### ### /Library/Frameworks/R.framework/Resources/bin/R CMD check --install=check:bedbaser.install-out.txt --library=/Library/Frameworks/R.framework/Resources/library --no-vignettes --timings bedbaser_1.0.3.tar.gz ### ############################################################################## ############################################################################## * using log directory ‘/Users/biocbuild/bbs-3.21-bioc/meat/bedbaser.Rcheck’ * using R version 4.5.1 Patched (2025-06-14 r88325) * using platform: aarch64-apple-darwin20 * R was compiled by Apple clang version 16.0.0 (clang-1600.0.26.6) GNU Fortran (GCC) 14.2.0 * running under: macOS Ventura 13.7.5 * using session charset: UTF-8 * using option ‘--no-vignettes’ * checking for file ‘bedbaser/DESCRIPTION’ ... OK * this is package ‘bedbaser’ version ‘1.0.3’ * package encoding: UTF-8 * checking package namespace information ... OK * checking package dependencies ... OK * checking if this is a source package ... OK * checking if there is a namespace ... OK * checking for hidden files and directories ... OK * checking for portable file names ... OK * checking for sufficient/correct file permissions ... OK * checking whether package ‘bedbaser’ can be installed ... OK * checking installed package size ... OK * checking package directory ... OK * checking ‘build’ directory ... OK * checking DESCRIPTION meta-information ... OK * checking top-level files ... OK * checking for left-over files ... OK * checking index information ... OK * checking package subdirectories ... OK * checking code files for non-ASCII characters ... OK * checking R files for syntax errors ... OK * checking whether the package can be loaded ... OK * checking whether the package can be loaded with stated dependencies ... OK * checking whether the package can be unloaded cleanly ... OK * checking whether the namespace can be loaded with stated dependencies ... OK * checking whether the namespace can be unloaded cleanly ... OK * checking dependencies in R code ... OK * checking S3 generic/method consistency ... OK * checking replacement functions ... OK * checking foreign function calls ... OK * checking R code for possible problems ... NOTE .get_url: no visible binding for global variable ‘access_methods’ .get_url: no visible binding for global variable ‘access_url’ .get_url: no visible binding for global variable ‘name’ .get_url: no visible binding for global variable ‘access_id’ bb_list_bedsets: no visible binding for global variable ‘bed_ids’ bb_list_bedsets: no visible binding for global variable ‘id’ bb_list_bedsets: no visible binding for global variable ‘name’ bb_list_bedsets: no visible binding for global variable ‘md5sum’ bb_list_bedsets: no visible binding for global variable ‘submission_date’ bb_list_bedsets: no visible binding for global variable ‘last_update_date’ bb_list_bedsets: no visible binding for global variable ‘description’ bb_list_bedsets: no visible binding for global variable ‘author’ Undefined global functions or variables: access_id access_methods access_url author bed_ids description id last_update_date md5sum name submission_date * checking Rd files ... OK * checking Rd metadata ... OK * checking Rd cross-references ... OK * checking for missing documentation entries ... OK * checking for code/documentation mismatches ... OK * checking Rd \usage sections ... OK * checking Rd contents ... OK * checking for unstated dependencies in examples ... OK * checking files in ‘vignettes’ ... OK * checking examples ... OK Examples with CPU (user + system) or elapsed time > 5s user system elapsed bb_to_granges 15.402 1.435 19.186 bb_to_grangeslist 15.614 0.553 20.173 bb_list_bedsets 0.275 0.016 10.636 * checking for unstated dependencies in ‘tests’ ... OK * checking tests ... Running ‘testthat.R’ OK * checking for unstated dependencies in vignettes ... OK * checking package vignettes ... OK * checking running R code from vignettes ... SKIPPED * checking re-building of vignette outputs ... SKIPPED * checking PDF version of manual ... OK * DONE Status: 1 NOTE See ‘/Users/biocbuild/bbs-3.21-bioc/meat/bedbaser.Rcheck/00check.log’ for details.