Package: beachmat Version: 2.25.5 Command: /home/biocbuild/R/R/bin/R CMD check --install=check:beachmat.install-out.txt --library=/home/biocbuild/R/R/site-library --no-vignettes --timings beachmat_2.25.5.tar.gz StartedAt: 2025-10-21 04:49:15 -0000 (Tue, 21 Oct 2025) EndedAt: 2025-10-21 04:56:33 -0000 (Tue, 21 Oct 2025) EllapsedTime: 438.0 seconds RetCode: 0 Status: OK CheckDir: beachmat.Rcheck Warnings: 0