Package: beachmat Version: 2.26.0 Command: /home/biocbuild/bbs-3.22-bioc/R/bin/R CMD build --keep-empty-dirs --no-resave-data --md5 beachmat StartedAt: 2025-11-06 16:24:55 -0500 (Thu, 06 Nov 2025) EndedAt: 2025-11-06 16:27:13 -0500 (Thu, 06 Nov 2025) EllapsedTime: 138.1 seconds RetCode: 0 Status: OK PackageFile: beachmat_2.26.0.tar.gz PackageFileSize: 374.1 KiB