Package: beachmat Version: 2.26.0 Command: /Library/Frameworks/R.framework/Resources/bin/R CMD build --keep-empty-dirs --no-resave-data beachmat StartedAt: 2025-11-03 16:09:39 -0500 (Mon, 03 Nov 2025) EndedAt: 2025-11-03 16:12:02 -0500 (Mon, 03 Nov 2025) EllapsedTime: 142.5 seconds RetCode: 0 Status: OK PackageFile: beachmat_2.26.0.tar.gz PackageFileSize: 370.2 KiB