Package: beachmat.tiledb Version: 1.1.1 Command: /home/biocbuild/R/R/bin/R CMD build --keep-empty-dirs --no-resave-data beachmat.tiledb StartedAt: 2025-10-20 22:07:34 -0000 (Mon, 20 Oct 2025) EndedAt: 2025-10-20 22:07:35 -0000 (Mon, 20 Oct 2025) EllapsedTime: 1.0 seconds RetCode: 1 Status: ERROR PackageFile: None PackageFileSize: NA