Package: beachmat.tiledb Version: 1.2.0 Command: /Library/Frameworks/R.framework/Resources/bin/R CMD INSTALL beachmat.tiledb StartedAt: 2025-11-03 15:25:22 -0500 (Mon, 03 Nov 2025) EndedAt: 2025-11-03 15:27:27 -0500 (Mon, 03 Nov 2025) EllapsedTime: 125.2 seconds RetCode: 0 Status: OK