Package: beachmat.tiledb Version: 1.2.0 Command: /Library/Frameworks/R.framework/Resources/bin/R CMD check --install=check:beachmat.tiledb.install-out.txt --library=/Library/Frameworks/R.framework/Resources/library --no-vignettes --timings beachmat.tiledb_1.2.0.tar.gz StartedAt: 2025-11-03 19:40:15 -0500 (Mon, 03 Nov 2025) EndedAt: 2025-11-03 19:43:06 -0500 (Mon, 03 Nov 2025) EllapsedTime: 170.6 seconds RetCode: 0 Status: OK CheckDir: beachmat.tiledb.Rcheck Warnings: 0