Package: beachmat.tiledb Version: 1.2.0 Command: /Library/Frameworks/R.framework/Resources/bin/R CMD check --install=check:beachmat.tiledb.install-out.txt --library=/Library/Frameworks/R.framework/Resources/library --no-vignettes --timings beachmat.tiledb_1.2.0.tar.gz StartedAt: 2025-10-31 18:41:18 -0400 (Fri, 31 Oct 2025) EndedAt: 2025-10-31 18:42:17 -0400 (Fri, 31 Oct 2025) EllapsedTime: 58.8 seconds RetCode: 0 Status: OK CheckDir: beachmat.tiledb.Rcheck Warnings: 0