Package: beachmat.tiledb Version: 1.2.0 Command: rm -rf beachmat.tiledb.buildbin-libdir && mkdir beachmat.tiledb.buildbin-libdir && /Users/biocbuild/BBS/utils/build-universal.sh beachmat.tiledb_1.2.0.tar.gz /Library/Frameworks/R.framework/Resources/bin/R beachmat.tiledb.buildbin-libdir StartedAt: 2025-10-31 22:59:01 -0400 (Fri, 31 Oct 2025) EndedAt: 2025-10-31 22:59:37 -0400 (Fri, 31 Oct 2025) EllapsedTime: 35.9 seconds RetCode: 0 Status: OK PackageFile: beachmat.tiledb_1.2.0.tgz PackageFileSize: 734 KiB