Package: baySeq Version: 2.42.0 Command: /home/biocbuild/R/R/bin/R CMD check --install=check:baySeq.install-out.txt --library=/home/biocbuild/R/R/site-library --no-vignettes --timings baySeq_2.42.0.tar.gz StartedAt: 2025-10-07 06:41:40 -0000 (Tue, 07 Oct 2025) EndedAt: 2025-10-07 06:45:29 -0000 (Tue, 07 Oct 2025) EllapsedTime: 229.2 seconds RetCode: 0 Status: OK CheckDir: baySeq.Rcheck Warnings: 0