Package: baySeq Version: 2.42.0 Command: /home/biocbuild/R/R/bin/R CMD build --keep-empty-dirs --no-resave-data baySeq StartedAt: 2025-10-06 22:50:26 -0000 (Mon, 06 Oct 2025) EndedAt: 2025-10-06 22:59:47 -0000 (Mon, 06 Oct 2025) EllapsedTime: 561.1 seconds RetCode: 0 Status: OK PackageFile: baySeq_2.42.0.tar.gz PackageFileSize: 1.109 MiB