Package: batchCorr Version: 0.99.8 Command: /home/biocbuild/R/R/bin/R CMD check --install=check:batchCorr.install-out.txt --library=/home/biocbuild/R/R/site-library --no-vignettes --timings batchCorr_0.99.8.tar.gz StartedAt: 2025-10-21 04:43:10 -0000 (Tue, 21 Oct 2025) EndedAt: 2025-10-21 04:50:37 -0000 (Tue, 21 Oct 2025) EllapsedTime: 446.2 seconds RetCode: 0 Status: OK CheckDir: batchCorr.Rcheck Warnings: 0