Package: batchCorr Version: 1.0.0 Command: /home/biocbuild/bbs-3.22-bioc/R/bin/R CMD INSTALL batchCorr StartedAt: 2025-11-06 15:21:41 -0500 (Thu, 06 Nov 2025) EndedAt: 2025-11-06 15:22:02 -0500 (Thu, 06 Nov 2025) EllapsedTime: 20.6 seconds RetCode: 0 Status: OK